BEGIN:VCALENDAR
VERSION:2.0
PRODID:icalendar-ruby
CALSCALE:GREGORIAN
METHOD:PUBLISH
BEGIN:VEVENT
DTSTAMP:20260422T151852Z
UID:7-224144@grandviewfellowship.com
DTSTART:20261004T173000Z
DTEND:20261004T185500Z
CLASS:PUBLIC
CREATED:20260422T054156
DESCRIPTION:
LAST-MODIFIED:20260422T054156
LOCATION:13011 13th St. Grandview\, MO 64030
SUMMARY:Sunday Worship Service
URL;VALUE=URI:https://www.grandviewfellowship.com/events/sunday-worship-ser
 vice/2026-10-04
END:VEVENT
END:VCALENDAR
