BEGIN:VCALENDAR
VERSION:2.0
PRODID:icalendar-ruby
CALSCALE:GREGORIAN
METHOD:PUBLISH
BEGIN:VEVENT
DTSTAMP:20260422T163640Z
UID:7-224214@grandviewfellowship.com
DTSTART:20261011T173000Z
DTEND:20261011T185500Z
CLASS:PUBLIC
CREATED:20260422T083713
DESCRIPTION:
LAST-MODIFIED:20260422T083713
LOCATION:13011 13th St. Grandview\, MO 64030
SUMMARY:Sunday Worship Service
URL;VALUE=URI:https://www.grandviewfellowship.com/events/sunday-worship-ser
 vice/2026-10-11
END:VEVENT
END:VCALENDAR
