BEGIN:VCALENDAR
VERSION:2.0
PRODID:icalendar-ruby
CALSCALE:GREGORIAN
METHOD:PUBLISH
BEGIN:VEVENT
DTSTAMP:20260422T175627Z
UID:7-224215@grandviewfellowship.com
DTSTART:20261018T173000Z
DTEND:20261018T185500Z
CLASS:PUBLIC
CREATED:20260422T083713
DESCRIPTION:
LAST-MODIFIED:20260422T083713
LOCATION:13011 13th St. Grandview\, MO 64030
SUMMARY:Sunday Worship Service
URL;VALUE=URI:https://www.grandviewfellowship.com/events/sunday-worship-ser
 vice/2026-10-18
END:VEVENT
END:VCALENDAR
