BEGIN:VCALENDAR
VERSION:2.0
PRODID:icalendar-ruby
CALSCALE:GREGORIAN
METHOD:PUBLISH
BEGIN:VEVENT
DTSTAMP:20260422T205739Z
UID:7-224286@grandviewfellowship.com
DTSTART:20261101T183000Z
DTEND:20261101T195500Z
CLASS:PUBLIC
CREATED:20260422T113147
DESCRIPTION:
LAST-MODIFIED:20260422T113147
LOCATION:13011 13th St. Grandview\, MO 64030
SUMMARY:Sunday Worship Service
URL;VALUE=URI:https://www.grandviewfellowship.com/events/sunday-worship-ser
 vice/2026-11-01
END:VEVENT
END:VCALENDAR
